BEGIN:VCALENDAR
VERSION:2.0
PRODID:-//ThePhilVA - ECPv6.15.14//NONSGML v1.0//EN
CALSCALE:GREGORIAN
METHOD:PUBLISH
X-ORIGINAL-URL:https://thephilva.com
X-WR-CALDESC:Events for ThePhilVA
REFRESH-INTERVAL;VALUE=DURATION:PT1H
X-Robots-Tag:noindex
X-PUBLISHED-TTL:PT1H
BEGIN:VTIMEZONE
TZID:America/New_York
BEGIN:DAYLIGHT
TZOFFSETFROM:-0500
TZOFFSETTO:-0400
TZNAME:EDT
DTSTART:20220313T070000
END:DAYLIGHT
BEGIN:STANDARD
TZOFFSETFROM:-0400
TZOFFSETTO:-0500
TZNAME:EST
DTSTART:20221106T060000
END:STANDARD
BEGIN:DAYLIGHT
TZOFFSETFROM:-0500
TZOFFSETTO:-0400
TZNAME:EDT
DTSTART:20230312T070000
END:DAYLIGHT
BEGIN:STANDARD
TZOFFSETFROM:-0400
TZOFFSETTO:-0500
TZNAME:EST
DTSTART:20231105T060000
END:STANDARD
BEGIN:DAYLIGHT
TZOFFSETFROM:-0500
TZOFFSETTO:-0400
TZNAME:EDT
DTSTART:20240310T070000
END:DAYLIGHT
BEGIN:STANDARD
TZOFFSETFROM:-0400
TZOFFSETTO:-0500
TZNAME:EST
DTSTART:20241103T060000
END:STANDARD
END:VTIMEZONE
BEGIN:VEVENT
DTSTART;TZID=America/New_York:20231108T103000
DTEND;TZID=America/New_York:20231108T110000
DTSTAMP:20260424T112440
CREATED:20231103T171526Z
LAST-MODIFIED:20231103T171526Z
UID:2314-1699439400-1699441200@thephilva.com
SUMMARY:Diwali Celebration with Culture Encounters
DESCRIPTION:Join us for a vibrant celebration of India’s rich culture. Nadira Shah Berry will showcase India’s diverse and captivating dance forms. Free with museum admission.
URL:https://thephilva.com/event/diwali-celebration-with-culture-encounters-2/
LOCATION:Children’s Museum of Richmond Chesterfield\, 6629 Lake Harbour Drive\, Midlothian\, VA 23112\, USA\, Midlothian\, VA\, 23112\, United States
CATEGORIES:Education,Family-friendly,Performances
ATTACH;FMTTYPE=image/jpeg:https://thephilva.com/wp-content/uploads/2023/11/Diwali-scaled.jpg
END:VEVENT
BEGIN:VEVENT
DTSTART;TZID=America/New_York:20231024T183000
DTEND;TZID=America/New_York:20231029T183000
DTSTAMP:20260424T112440
CREATED:20231010T163938Z
LAST-MODIFIED:20231010T163938Z
UID:2274-1698172200-1698604200@thephilva.com
SUMMARY:Richmond Ballet Presents Studio One
DESCRIPTION:STUDIO ONE\nOctober 24-29 \n‘Akwarium’\nChoreography by Katarzyna Skarpetowska\nMusic by J.S. Bach and Robert Henke \nA World Premiere by Young Soon Hue \nKatarzyna Skarpetowska’s ‘Akwarium’ returns to Richmond after tours to Ballet West’s National Choreographic Festival and New York Live Arts’ WOMEN/CREATE! – A Festival of Dance. Inspired by the atmosphere of an aquarium\, this contemporary ballet reflects the very human experience of sharing space\, and the encounters\, random or otherwise\, that we have along the way. ‘Akwarium’ highlights Skarpetowska’s skills as a visual patternmaker as well as her signature fluid\, grounded movements. \nAcclaimed international choreographer Young Soon Hue has created more than 40 works for ballet companies around the world\, including Queensland Ballet\, Tulsa Ballet\, National Ballet of Korea\, and Deutsche Oper am Rhein. She will bring her exquisite artistry and breadth of experience to the Richmond Ballet stage in her first ballet for the company. \nTickets start at $25. Visit etix.com or call the Richmond Ballet Box Office at 804.344.0906 x224 open Monday-Friday 11am-6pm.
URL:https://thephilva.com/event/richmond-ballet-presents-studio-one/
LOCATION:Richmond Ballet Studio Theatre\, 407 East Canal Street\, Richmond\, VA\, 23219\, United States
CATEGORIES:Performances
ATTACH;FMTTYPE=image/jpeg:https://thephilva.com/wp-content/uploads/2023/10/Studio-1-scaled.jpg
ORGANIZER;CN="Richmond Ballet":MAILTO:richmondballet@richmondballet.com
END:VEVENT
BEGIN:VEVENT
DTSTART;TZID=America/New_York:20231010T190000
DTEND;TZID=America/New_York:20231010T210000
DTSTAMP:20260424T112440
CREATED:20230918T130316Z
LAST-MODIFIED:20230918T130316Z
UID:2203-1696964400-1696971600@thephilva.com
SUMMARY:Scott Wichmann Presents People of the (Great American Song) Book
DESCRIPTION:Scott Wichmann\, one of Central Virginia’s premier entertainers\, spends a joyous evening highlighting the enduring contributions of Jewish composers to the catalog of American popular music. From the Gershwins to Irving Berlin\, Harold Arlen to Sammy Cahn\, Jerome Kern and more\, enjoy an incredible program showcasing how Jewish musicians helped to express the hope\, yearning\, passion\, heartache and lyricism of 20th Century America.
URL:https://thephilva.com/event/scott-wichmann-presents-people-of-the-great-american-song-book/
LOCATION:Weinstein JCC\, 5403 Monument Ave.\, Richmond\, VA\, 23236\, United States
CATEGORIES:Performances
ATTACH;FMTTYPE=image/jpeg:https://thephilva.com/wp-content/uploads/2023/09/Scott-Wichmann_People-of-the-Great-American-Song-Book-scaled.jpg
ORGANIZER;CN="Weinstein JCC":MAILTO:lmcguigan@weinsteinjcc.org
END:VEVENT
BEGIN:VEVENT
DTSTART;TZID=America/New_York:20230915T170000
DTEND;TZID=America/New_York:20230915T190000
DTSTAMP:20260424T112440
CREATED:20230908T152854Z
LAST-MODIFIED:20230908T152854Z
UID:2186-1694797200-1694804400@thephilva.com
SUMMARY:Art Gallery Opening & Centennial Celebration
DESCRIPTION:In its centennial year of service\, Commonwealth Catholic Charities (CCC) is opening an art gallery in Richmond. The gallery features a permanent collection of oil paintings by lifelong Catholic\, Richmond native\, and social activist\, Nora Houston (1883-1942)\, and paintings\, photography\, jewelry\, and textiles created by clients from foster care\, refugee resettlement\, senior services\, and supportive housing. \nA gallery opening celebration will be held on September 15 from 5:00-7:00 p.m. at CCC’s headquarters at 1601 Rolling Hills Drive. \nFree activities for kids! \nDance performance by Tradicion Dance Company. \nFood and beverages will be available for sale.
URL:https://thephilva.com/event/art-gallery-opening-centennial-celebration/
LOCATION:VA
CATEGORIES:Education,Family-friendly,Food and Beverage,Performances
ATTACH;FMTTYPE=image/jpeg:https://thephilva.com/wp-content/uploads/2023/09/Social-Media-Image_Kerby-scaled.jpg
END:VEVENT
BEGIN:VEVENT
DTSTART;TZID=America/New_York:20230805T110000
DTEND;TZID=America/New_York:20230805T160000
DTSTAMP:20260424T112440
CREATED:20230629T140959Z
LAST-MODIFIED:20230706T180515Z
UID:1885-1691233200-1691251200@thephilva.com
SUMMARY:RVA Duck Race & Festival of Inclusion
DESCRIPTION:The RVA Duck Race & Festival of Inclusion will make a splash again this year! Returning to Brown’s Island on August 5\, 2023\, the Autism Society of Central Virginia (ASCV) will host the iconic race and Richmond’s largest sensory-friendly festival. Enjoy stage entertainment\, food trucks\, drinks\, and the spectacle of 17\,000 ducks dropping into the canal! Proceeds from the RVA Duck Race support the ASCV’s critical programming and services for our local autism community. \nPurchase your Duck Entries for the chance to win incredible prizes\, including our $10\,000 Grand Prize sponsored by fas mart®!  Then join us on Brown’s Island to watch the ducks float down the canal and race toward the finish line.  Ducks will be sold online leading up to the event and can be purchased here. \n 
URL:https://thephilva.com/event/rva-duck-race-festival-of-inclusion/
LOCATION:Brown’s Island\, 500 Tredegar St\, Richmond\, VA\, 23219\, United States
CATEGORIES:Family-friendly,Fundraiser,Performances,Race/Fun Run
ATTACH;FMTTYPE=image/png:https://thephilva.com/wp-content/uploads/2023/06/Screen-Shot-2023-06-29-at-10.00.06-AM.png
ORGANIZER;CN="Autism Society of Central Virginia":MAILTO:info@ascv.org
END:VEVENT
BEGIN:VEVENT
DTSTART;TZID=America/New_York:20230725T150000
DTEND;TZID=America/New_York:20230725T160000
DTSTAMP:20260424T112440
CREATED:20230706T172925Z
LAST-MODIFIED:20230706T172925Z
UID:1907-1690297200-1690300800@thephilva.com
SUMMARY:Christmas in July
DESCRIPTION:It’s beginning to look a lot like Christmas (in July!) Join CMoR and City Singers Youth Choir for caroling in our Downtown Museum lobby from 3-4pm. \nCity Singers Youth Choir is an all-youth choir made up of students from K-12th grade who share their talents performing choir music. Free with museum admission.
URL:https://thephilva.com/event/christmas-in-july/
LOCATION:Children’s Museum of Richmond (Downtown)\, 2626 West Broad Street\, Richmond\, VA\, 23220\, United States
CATEGORIES:Performances
ATTACH;FMTTYPE=image/png:https://thephilva.com/wp-content/uploads/2023/07/Christmas-in-July-1024x1024-square.png
END:VEVENT
END:VCALENDAR