BEGIN:VCALENDAR
VERSION:2.0
PRODID:-//ThePhilVA - ECPv6.15.14//NONSGML v1.0//EN
CALSCALE:GREGORIAN
METHOD:PUBLISH
X-ORIGINAL-URL:https://thephilva.com
X-WR-CALDESC:Events for ThePhilVA
REFRESH-INTERVAL;VALUE=DURATION:PT1H
X-Robots-Tag:noindex
X-PUBLISHED-TTL:PT1H
BEGIN:VTIMEZONE
TZID:America/New_York
BEGIN:DAYLIGHT
TZOFFSETFROM:-0500
TZOFFSETTO:-0400
TZNAME:EDT
DTSTART:20220313T070000
END:DAYLIGHT
BEGIN:STANDARD
TZOFFSETFROM:-0400
TZOFFSETTO:-0500
TZNAME:EST
DTSTART:20221106T060000
END:STANDARD
BEGIN:DAYLIGHT
TZOFFSETFROM:-0500
TZOFFSETTO:-0400
TZNAME:EDT
DTSTART:20230312T070000
END:DAYLIGHT
BEGIN:STANDARD
TZOFFSETFROM:-0400
TZOFFSETTO:-0500
TZNAME:EST
DTSTART:20231105T060000
END:STANDARD
BEGIN:DAYLIGHT
TZOFFSETFROM:-0500
TZOFFSETTO:-0400
TZNAME:EDT
DTSTART:20240310T070000
END:DAYLIGHT
BEGIN:STANDARD
TZOFFSETFROM:-0400
TZOFFSETTO:-0500
TZNAME:EST
DTSTART:20241103T060000
END:STANDARD
BEGIN:DAYLIGHT
TZOFFSETFROM:-0500
TZOFFSETTO:-0400
TZNAME:EDT
DTSTART:20250309T070000
END:DAYLIGHT
BEGIN:STANDARD
TZOFFSETFROM:-0400
TZOFFSETTO:-0500
TZNAME:EST
DTSTART:20251102T060000
END:STANDARD
END:VTIMEZONE
BEGIN:VEVENT
DTSTART;TZID=America/New_York:20240705T170000
DTEND;TZID=America/New_York:20240705T230000
DTSTAMP:20260422T131436
CREATED:20240702T162922Z
LAST-MODIFIED:20240702T162922Z
UID:2847-1720198800-1720220400@thephilva.com
SUMMARY:FIRST FRIDAY - Maggie Walker's 160th Birthday kick-off event
DESCRIPTION:Maggie Walker’s 160th birthday celebration kick-off\, in partnership with the National Park Service – Maggie Walker National Historical Site \nMusic and MC entertainment on the Gallery 5 stage by the Love Movement\,\nAxt Museum\, and Big Fancy \nStudent art show featuring works inspired by the life and legacy of Maggie Walker\, by artists from Bellevue Elementary School\, Armstrong High School\, and the Maggie L. Walker Governor’s School\, as well as other original art.
URL:https://thephilva.com/event/first-friday-maggie-walkers-160th-birthday-kick-off-event/
LOCATION:Gallery 5\, 200 W Marshall St\, Richmond\, VA\, 23220\, United States
CATEGORIES:Arts,History,Performances
ATTACH;FMTTYPE=image/jpeg:https://thephilva.com/wp-content/uploads/2024/07/maggie-walker-FF_july24.jpg
ORGANIZER;CN="Gallery 5":MAILTO:info@gallery5arts.org
END:VEVENT
BEGIN:VEVENT
DTSTART;TZID=America/New_York:20240615T103000
DTEND;TZID=America/New_York:20240615T123000
DTSTAMP:20260422T131436
CREATED:20240528T201035Z
LAST-MODIFIED:20240528T201035Z
UID:2732-1718447400-1718454600@thephilva.com
SUMMARY:Outdoor Summer Performance Series
DESCRIPTION:Join us for our Outdoor Summer Performance Series at our outdoor stage on the third Saturday during the summer. Come to the museum for a fun Saturday morning and be entertained. Enjoy the splash pad or sit under the shade and enjoy Richmond’s finest family entertainment. Free with museum admission. \nThere will be two 45-minute performances during the two-hour block. Please check our social media closer to the date for timing. \nPlease see updates on website calendar:\nJune performer: Jonathan Austin\nJuly performer: School of Rock\nAugust: River City Band
URL:https://thephilva.com/event/outdoor-summer-performance-series/
LOCATION:Children’s Museum of Richmond\, 2626 West Broad Street\, Richmond\, VA\, VA\, 23220\, United States
CATEGORIES:Family-friendly,Performances
ATTACH;FMTTYPE=image/png:https://thephilva.com/wp-content/uploads/2024/05/Summer-Outdoor-Performance-Series-1024x1024-square-c1bcbd3d2ced24073c2971a7502a262d-5db1279ab9046.png
END:VEVENT
BEGIN:VEVENT
DTSTART;TZID=America/New_York:20240607T153000
DTEND;TZID=America/New_York:20240607T163000
DTSTAMP:20260422T131436
CREATED:20240528T201023Z
LAST-MODIFIED:20240528T201023Z
UID:2727-1717774200-1717777800@thephilva.com
SUMMARY:CultureFest Fridays with Culture Encounters
DESCRIPTION:Join us every first Friday (January to July 2024) for a monthly cultural celebration for the entire family at the Children’s Museum of Richmond. This event is in partnership with Culture Encounters\, a local nonprofit organization. Immerse yourself in diverse global cultures through live performances\, culinary delights\, and arts and crafts. \nImmersive Performances: Experience the essence of each culture with live music\, dance\, or theatrical demonstrations.\nCulinary Delights: Savor authentic dishes from the showcased culture each month.\nInteractive Arts and Crafts: Get creative with hands-on activities and workshops for the whole family. \nSchedule: (Please see website calendar to confirm)\nJanuary 5: Afghanistan (featuring snack courtesy of The Mantu)\nFebruary 2: Africa (Black History Month)\nMarch 1: Ireland\nApril 5: Panama\nMay 3: Philippines (Asian-American Heritage Month)\nJune 7: Lebanon\nJuly 5: China
URL:https://thephilva.com/event/culturefest-fridays-with-culture-encounters/
LOCATION:Children’s Museum of Richmond\, 2626 West Broad Street\, Richmond\, VA\, VA\, 23220\, United States
CATEGORIES:Education,Family-friendly,Performances
ATTACH;FMTTYPE=image/png:https://thephilva.com/wp-content/uploads/2024/05/CultureFest-Fridays-at-CMoR-1024x1024-square-4b7c5c4ba8d39d187541bed76bfea5d9-5db1279ab9046.png
END:VEVENT
BEGIN:VEVENT
DTSTART;TZID=America/New_York:20240502T190000
DTEND;TZID=America/New_York:20240502T210000
DTSTAMP:20260422T131436
CREATED:20240411T140448Z
LAST-MODIFIED:20240411T140448Z
UID:2642-1714676400-1714683600@thephilva.com
SUMMARY:The Latin Ballet of Virginia Presents Marcel Marceau: A Silent Hero
DESCRIPTION:Marcel Marceau was a French actor who was known internationally for his emotional and elegant performance as a mime. \nIn France during WWII\, Marceau used his art of mime to save Jewish children during the Holocaust. \nUnder the creative direction of Ana Anais King\, the Latin Ballet of Virginia will bring the Marcel Marceau story\, A Silent Hero\, to life through ballet. \nThe result is a moving tribute to the legendary mime artist who harnessed the power of his art to save lives during one of humanity’s darkest chapters. \nThis performance will serve as a powerful reminder of the indomitable spirit of the human soul. \nPerformance sponsored by Allianz Partners; final reception sponsored by MCV Foundation.
URL:https://thephilva.com/event/the-latin-ballet-of-virginia-presents-marcel-marceau-a-silent-hero/
LOCATION:Weinstein JCC\, 5403 Monument Ave.\, Richmond\, VA\, 23236\, United States
CATEGORIES:Performances
ATTACH;FMTTYPE=image/jpeg:https://thephilva.com/wp-content/uploads/2024/04/Latin-Ballet_Marcel-Marceau.jpeg
ORGANIZER;CN="Weinstein JCC":MAILTO:lmcguigan@weinsteinjcc.org
END:VEVENT
BEGIN:VEVENT
DTSTART;TZID=America/New_York:20240322T190000
DTEND;TZID=America/New_York:20240322T220000
DTSTAMP:20260422T131436
CREATED:20240101T174450Z
LAST-MODIFIED:20240101T174450Z
UID:2411-1711134000-1711144800@thephilva.com
SUMMARY:Pretend Again: A Grown-Up Night at the Museum Fundraising Gala
DESCRIPTION:Don’t miss the Children’s Museum of Richmond’s newest fundraising event! Tickets are on sale now! \nPretend Again: A Grown-Up Night at the Museum is a party for adults only on Friday\, March 22\, 2024 from 7:00 – 10:00 p.m. “We don’t stop playing because we grow old; we grow old because we stop playing” – George Bernard Shaw \nJoin us for a care-free fun-filled evening featuring some of RVA’s finest food\, specialty beverages and live music by 10 Spot! We promise that you will feel like a kid again in the vibrant and engaging environment of the Children’s Museum. There will truly be something for the inner child in all of us…dazzling diamonds\, a spectacular bourbon bonanza\, prize pulls\, wine pulls\, and more! \nThe Children’s Museum is a 501(c)3 established in 1981\, and all proceeds will support the Museum’s work in the community to ensure all children have access to fun\, safe ways to play.
URL:https://thephilva.com/event/pretend-again-a-grown-up-night-at-the-museum-fundraising-gala/
LOCATION:Children’s Museum of Richmond\, 2626 West Broad Street\, Richmond\, VA\, VA\, 23220\, United States
CATEGORIES:Education,Food and Beverage,Fundraiser,Performances
ATTACH;FMTTYPE=image/jpeg:https://thephilva.com/wp-content/uploads/2023/12/Gala.jpg
END:VEVENT
BEGIN:VEVENT
DTSTART;TZID=America/New_York:20240222T173000
DTEND;TZID=America/New_York:20240222T193000
DTSTAMP:20260422T131436
CREATED:20240208T151459Z
LAST-MODIFIED:20240208T151459Z
UID:2493-1708623000-1708630200@thephilva.com
SUMMARY:African American Read-In at VMFA
DESCRIPTION:Literature and fine art come together the in African American Read-In (AARI) at VMFA. See and hear notable figures from the greater Richmond community as they lend their voices in prose and poetry readings throughout the galleries. In this powerful display of storytelling\, experience evocative and poignant pairings of works by African American artists and authors. \nThe National African American Read-In is sponsored by the Black Caucus of the National Council of Teachers of English and endorsed by the International Literacy Association. \nFree\, no tickets required.
URL:https://thephilva.com/event/african-american-read-in-at-vmfa/
LOCATION:Virginia Museum of Fine Art\, 200 North Arthur Ashe Boulevard\, Richmond\, VA\, 23220\, United States
CATEGORIES:Arts,Black History Month,Education,Performances
ATTACH;FMTTYPE=image/jpeg:https://thephilva.com/wp-content/uploads/2024/02/E202303_SS_00207_o5.jpg
END:VEVENT
BEGIN:VEVENT
DTSTART;TZID=America/New_York:20240203T133000
DTEND;TZID=America/New_York:20240203T150000
DTSTAMP:20260422T131436
CREATED:20240112T172633Z
LAST-MODIFIED:20240112T172633Z
UID:2418-1706967000-1706972400@thephilva.com
SUMMARY:Chinese New Year Celebration
DESCRIPTION:Join us at the Chesterfield Museum from 10:00am-11:30am or the Downtown Museum from 1:30pm-3:00pm for a celebration of the Chinese New Year! \nThe Spring Festival is the most lively and festive day of the year for Chinese people! Everyone is full of joy and laughter… let us celebrate the arrival of the new year together.\nA celebration of the Chinese New Year with dance and song. See beautiful costumes and the pageantry of the Chinese New Year. \nFree with museum admission.
URL:https://thephilva.com/event/chinese-new-year-celebration/
LOCATION:Children’s Museum of Richmond\, 2626 West Broad Street\, Richmond\, VA\, VA\, 23220\, United States
CATEGORIES:Family-friendly,Performances
ATTACH;FMTTYPE=image/jpeg:https://thephilva.com/wp-content/uploads/2024/01/Chinese-New-Year.jpeg
END:VEVENT
BEGIN:VEVENT
DTSTART;TZID=America/New_York:20240202T153000
DTEND;TZID=America/New_York:20240202T163000
DTSTAMP:20260422T131436
CREATED:20240112T172449Z
LAST-MODIFIED:20240112T172449Z
UID:2420-1706887800-1706891400@thephilva.com
SUMMARY:Culture Fest Fridays: African
DESCRIPTION:Join us every first Friday (January to June 2024) for a monthly cultural celebration for the entire family at the Children’s Museum of Richmond. This event is in partnership with Culture Encounters\, a local nonprofit organization. Immerse yourself in diverse global cultures through live performances\, culinary delights\, and arts and crafts. \nImmersive Performances: Experience the essence of each culture with live music\, dance\, or theatrical demonstrations.\nCulinary Delights: Savor authentic dishes from the showcased culture each month.\nInteractive Arts and Crafts: Get creative with hands-on activities and workshops for the whole family. \nSchedule:\nJanuary 5: Afghanistan (featuring snack courtesy of The Mantu)\nFebruary 2: Africa (Black History Month)\nMarch 1: Ireland\nApril 5: Lebanon (Arab-American Heritage Month)\nMay 3: China (Asian-American Heritage Month)\nJune 7: Jamaica
URL:https://thephilva.com/event/culture-fest-fridays-african/
LOCATION:Children’s Museum of Richmond\, 2626 West Broad Street\, Richmond\, VA\, VA\, 23220\, United States
CATEGORIES:Education,Family-friendly,Performances
ATTACH;FMTTYPE=image/png:https://thephilva.com/wp-content/uploads/2024/01/CultureFest-Fridays-at-CMoR-1024x1024-square.png
END:VEVENT
BEGIN:VEVENT
DTSTART;TZID=America/New_York:20240118T103000
DTEND;TZID=America/New_York:20240118T113000
DTSTAMP:20260422T131436
CREATED:20240101T174647Z
LAST-MODIFIED:20240101T174647Z
UID:2405-1705573800-1705577400@thephilva.com
SUMMARY:Comedy Improv with Bridge 9 Theater
DESCRIPTION:Join us at the Chesterfield Museum from 10:30 am – 11:30 am for comedy improv geared towards a younger crowd. Bridge 9 Theater will be bringing lots of laughs and there will be plenty of opportunity for kids to participate in the show. Free with museum admission.
URL:https://thephilva.com/event/comedy-improv-with-bridge-9-theater-2/
LOCATION:Children’s Museum of Richmond Chesterfield\, 6629 Lake Harbour Drive\, Midlothian\, VA 23112\, USA\, Midlothian\, VA\, 23112\, United States
CATEGORIES:Family-friendly,Performances
ATTACH;FMTTYPE=image/jpeg:https://thephilva.com/wp-content/uploads/2023/12/Comedy-Improv-scaled.jpg
END:VEVENT
BEGIN:VEVENT
DTSTART;TZID=America/New_York:20240116T150000
DTEND;TZID=America/New_York:20240116T160000
DTSTAMP:20260422T131436
CREATED:20240101T174628Z
LAST-MODIFIED:20240101T174628Z
UID:2407-1705417200-1705420800@thephilva.com
SUMMARY:Comedy Improv with Bridge 9 Theater
DESCRIPTION:Join us from 3:15 pm – 4:15 pm for comedy improv geared towards a younger crowd. Bridge 9 Theater will be bringing lots of laughs and there will be plenty of opportunity for kids to participate in the show. Free with museum admission.
URL:https://thephilva.com/event/comedy-improv-with-bridge-9-theater/
LOCATION:Children’s Museum of Richmond\, 2626 West Broad Street\, Richmond\, VA\, VA\, 23220\, United States
CATEGORIES:Family-friendly,Performances
ATTACH;FMTTYPE=image/jpeg:https://thephilva.com/wp-content/uploads/2023/12/Comedy-Improv-1-scaled.jpg
END:VEVENT
BEGIN:VEVENT
DTSTART;TZID=America/New_York:20231207T193000
DTEND;TZID=America/New_York:20231207T213000
DTSTAMP:20260422T131436
CREATED:20231127T001810Z
LAST-MODIFIED:20231127T001810Z
UID:2349-1701977400-1701984600@thephilva.com
SUMMARY:Cabaret
DESCRIPTION:The Weinstein JCC will host 7 performances of Cabaret\, which opens on Dec. 7. Daring\, provocative and exuberantly entertaining\, Cabaret explores the dark and heady life of bohemian Berlin as Germany slowly yields to the emerging Third Reich. Originally produced in 1961 with music by John Kander and lyrics by Fred Ebb\, Cabaret won 8 Tony Awards\, including Best Musical and Best Composer/Lyricist. \nDates & Times:\nDec. 7\, 9\, 13\, 14\, 16 from 7:30-9:30pm\nDec. 10\, 17 from 2-4pm \nTickets: Members $25; nonmembers $30\nLocation: Weinstein JCC\, 5403 Monument Ave.\, Richmond\, VA 23226 \nDirected by Debra Clinton\nMusical Direction by Stephen Rudlin\nChoreography by Pam Turner\nRecommended for ages 12 and up
URL:https://thephilva.com/event/cabaret/
LOCATION:Weinstein JCC\, 5403 Monument Ave.\, Richmond\, VA\, 23236\, United States
CATEGORIES:Performances
ATTACH;FMTTYPE=image/jpeg:https://thephilva.com/wp-content/uploads/2023/11/Cabaret_logo-scaled.jpg
ORGANIZER;CN="Weinstein JCC":MAILTO:lmcguigan@weinsteinjcc.org
END:VEVENT
BEGIN:VEVENT
DTSTART;TZID=America/New_York:20231108T140000
DTEND;TZID=America/New_York:20231108T143000
DTSTAMP:20260422T131436
CREATED:20231103T171512Z
LAST-MODIFIED:20231103T171512Z
UID:2316-1699452000-1699453800@thephilva.com
SUMMARY:Diwali Celebration with Culture Encounters
DESCRIPTION:Join us for a vibrant celebration of India’s rich culture. Nadira Shah Berry will showcase India’s diverse and captivating dance forms. Free with museum admission.
URL:https://thephilva.com/event/diwali-celebration-with-culture-encounters/
LOCATION:Children’s Museum of Richmond\, 2626 West Broad Street\, Richmond\, VA\, VA\, 23220\, United States
CATEGORIES:Education,Family-friendly,Performances
ATTACH;FMTTYPE=image/jpeg:https://thephilva.com/wp-content/uploads/2023/11/Diwali-1-scaled.jpg
END:VEVENT
BEGIN:VEVENT
DTSTART;TZID=America/New_York:20231108T103000
DTEND;TZID=America/New_York:20231108T110000
DTSTAMP:20260422T131436
CREATED:20231103T171526Z
LAST-MODIFIED:20231103T171526Z
UID:2314-1699439400-1699441200@thephilva.com
SUMMARY:Diwali Celebration with Culture Encounters
DESCRIPTION:Join us for a vibrant celebration of India’s rich culture. Nadira Shah Berry will showcase India’s diverse and captivating dance forms. Free with museum admission.
URL:https://thephilva.com/event/diwali-celebration-with-culture-encounters-2/
LOCATION:Children’s Museum of Richmond Chesterfield\, 6629 Lake Harbour Drive\, Midlothian\, VA 23112\, USA\, Midlothian\, VA\, 23112\, United States
CATEGORIES:Education,Family-friendly,Performances
ATTACH;FMTTYPE=image/jpeg:https://thephilva.com/wp-content/uploads/2023/11/Diwali-scaled.jpg
END:VEVENT
BEGIN:VEVENT
DTSTART;TZID=America/New_York:20231024T183000
DTEND;TZID=America/New_York:20231029T183000
DTSTAMP:20260422T131436
CREATED:20231010T163938Z
LAST-MODIFIED:20231010T163938Z
UID:2274-1698172200-1698604200@thephilva.com
SUMMARY:Richmond Ballet Presents Studio One
DESCRIPTION:STUDIO ONE\nOctober 24-29 \n‘Akwarium’\nChoreography by Katarzyna Skarpetowska\nMusic by J.S. Bach and Robert Henke \nA World Premiere by Young Soon Hue \nKatarzyna Skarpetowska’s ‘Akwarium’ returns to Richmond after tours to Ballet West’s National Choreographic Festival and New York Live Arts’ WOMEN/CREATE! – A Festival of Dance. Inspired by the atmosphere of an aquarium\, this contemporary ballet reflects the very human experience of sharing space\, and the encounters\, random or otherwise\, that we have along the way. ‘Akwarium’ highlights Skarpetowska’s skills as a visual patternmaker as well as her signature fluid\, grounded movements. \nAcclaimed international choreographer Young Soon Hue has created more than 40 works for ballet companies around the world\, including Queensland Ballet\, Tulsa Ballet\, National Ballet of Korea\, and Deutsche Oper am Rhein. She will bring her exquisite artistry and breadth of experience to the Richmond Ballet stage in her first ballet for the company. \nTickets start at $25. Visit etix.com or call the Richmond Ballet Box Office at 804.344.0906 x224 open Monday-Friday 11am-6pm.
URL:https://thephilva.com/event/richmond-ballet-presents-studio-one/
LOCATION:Richmond Ballet Studio Theatre\, 407 East Canal Street\, Richmond\, VA\, 23219\, United States
CATEGORIES:Performances
ATTACH;FMTTYPE=image/jpeg:https://thephilva.com/wp-content/uploads/2023/10/Studio-1-scaled.jpg
ORGANIZER;CN="Richmond Ballet":MAILTO:richmondballet@richmondballet.com
END:VEVENT
BEGIN:VEVENT
DTSTART;TZID=America/New_York:20231010T190000
DTEND;TZID=America/New_York:20231010T210000
DTSTAMP:20260422T131436
CREATED:20230918T130316Z
LAST-MODIFIED:20230918T130316Z
UID:2203-1696964400-1696971600@thephilva.com
SUMMARY:Scott Wichmann Presents People of the (Great American Song) Book
DESCRIPTION:Scott Wichmann\, one of Central Virginia’s premier entertainers\, spends a joyous evening highlighting the enduring contributions of Jewish composers to the catalog of American popular music. From the Gershwins to Irving Berlin\, Harold Arlen to Sammy Cahn\, Jerome Kern and more\, enjoy an incredible program showcasing how Jewish musicians helped to express the hope\, yearning\, passion\, heartache and lyricism of 20th Century America.
URL:https://thephilva.com/event/scott-wichmann-presents-people-of-the-great-american-song-book/
LOCATION:Weinstein JCC\, 5403 Monument Ave.\, Richmond\, VA\, 23236\, United States
CATEGORIES:Performances
ATTACH;FMTTYPE=image/jpeg:https://thephilva.com/wp-content/uploads/2023/09/Scott-Wichmann_People-of-the-Great-American-Song-Book-scaled.jpg
ORGANIZER;CN="Weinstein JCC":MAILTO:lmcguigan@weinsteinjcc.org
END:VEVENT
BEGIN:VEVENT
DTSTART;TZID=America/New_York:20230915T170000
DTEND;TZID=America/New_York:20230915T190000
DTSTAMP:20260422T131436
CREATED:20230908T152854Z
LAST-MODIFIED:20230908T152854Z
UID:2186-1694797200-1694804400@thephilva.com
SUMMARY:Art Gallery Opening & Centennial Celebration
DESCRIPTION:In its centennial year of service\, Commonwealth Catholic Charities (CCC) is opening an art gallery in Richmond. The gallery features a permanent collection of oil paintings by lifelong Catholic\, Richmond native\, and social activist\, Nora Houston (1883-1942)\, and paintings\, photography\, jewelry\, and textiles created by clients from foster care\, refugee resettlement\, senior services\, and supportive housing. \nA gallery opening celebration will be held on September 15 from 5:00-7:00 p.m. at CCC’s headquarters at 1601 Rolling Hills Drive. \nFree activities for kids! \nDance performance by Tradicion Dance Company. \nFood and beverages will be available for sale.
URL:https://thephilva.com/event/art-gallery-opening-centennial-celebration/
LOCATION:VA
CATEGORIES:Education,Family-friendly,Food and Beverage,Performances
ATTACH;FMTTYPE=image/jpeg:https://thephilva.com/wp-content/uploads/2023/09/Social-Media-Image_Kerby-scaled.jpg
END:VEVENT
BEGIN:VEVENT
DTSTART;TZID=America/New_York:20230805T110000
DTEND;TZID=America/New_York:20230805T160000
DTSTAMP:20260422T131436
CREATED:20230629T140959Z
LAST-MODIFIED:20230706T180515Z
UID:1885-1691233200-1691251200@thephilva.com
SUMMARY:RVA Duck Race & Festival of Inclusion
DESCRIPTION:The RVA Duck Race & Festival of Inclusion will make a splash again this year! Returning to Brown’s Island on August 5\, 2023\, the Autism Society of Central Virginia (ASCV) will host the iconic race and Richmond’s largest sensory-friendly festival. Enjoy stage entertainment\, food trucks\, drinks\, and the spectacle of 17\,000 ducks dropping into the canal! Proceeds from the RVA Duck Race support the ASCV’s critical programming and services for our local autism community. \nPurchase your Duck Entries for the chance to win incredible prizes\, including our $10\,000 Grand Prize sponsored by fas mart®!  Then join us on Brown’s Island to watch the ducks float down the canal and race toward the finish line.  Ducks will be sold online leading up to the event and can be purchased here. \n 
URL:https://thephilva.com/event/rva-duck-race-festival-of-inclusion/
LOCATION:Brown’s Island\, 500 Tredegar St\, Richmond\, VA\, 23219\, United States
CATEGORIES:Family-friendly,Fundraiser,Performances,Race/Fun Run
ATTACH;FMTTYPE=image/png:https://thephilva.com/wp-content/uploads/2023/06/Screen-Shot-2023-06-29-at-10.00.06-AM.png
ORGANIZER;CN="Autism Society of Central Virginia":MAILTO:info@ascv.org
END:VEVENT
BEGIN:VEVENT
DTSTART;TZID=America/New_York:20230725T150000
DTEND;TZID=America/New_York:20230725T160000
DTSTAMP:20260422T131436
CREATED:20230706T172925Z
LAST-MODIFIED:20230706T172925Z
UID:1907-1690297200-1690300800@thephilva.com
SUMMARY:Christmas in July
DESCRIPTION:It’s beginning to look a lot like Christmas (in July!) Join CMoR and City Singers Youth Choir for caroling in our Downtown Museum lobby from 3-4pm. \nCity Singers Youth Choir is an all-youth choir made up of students from K-12th grade who share their talents performing choir music. Free with museum admission.
URL:https://thephilva.com/event/christmas-in-july/
LOCATION:Children’s Museum of Richmond (Downtown)\, 2626 West Broad Street\, Richmond\, VA\, 23220\, United States
CATEGORIES:Performances
ATTACH;FMTTYPE=image/png:https://thephilva.com/wp-content/uploads/2023/07/Christmas-in-July-1024x1024-square.png
END:VEVENT
END:VCALENDAR